BEGIN:VCALENDAR
VERSION:2.0
PRODID:-//eventon.com NONSGML v1.0//EN
CALSCALE:GREGORIAN
METHOD:PUBLISH
BEGIN:VEVENT
UID:69e9d8b12f678
DTSTAMP:20260423T083041Z
DTSTART:20221010
DTEND:20221011
LOCATION:
SUMMARY:Conférence DCF
DESCRIPTION:Conférence DCF\nhttps://www.espace-auguste.fr/events/conferenc
 e-dcf/
URL:https://www.espace-auguste.fr/events/conference-dcf/
END:VEVENT
END:VCALENDAR