BEGIN:VCALENDAR
VERSION:2.0
PRODID:-//eventon.com NONSGML v1.0//EN
CALSCALE:GREGORIAN
METHOD:PUBLISH
BEGIN:VEVENT
UID:69e9ebb85a8f0
DTSTAMP:20260423T095152Z
DTSTART:20230201
DTEND:20230202
LOCATION:
SUMMARY:REUNION PONTIGGIA
DESCRIPTION:REUNION PONTIGGIA\nhttps://www.espace-auguste.fr/events/reunion
 -pontiggia-7/
URL:https://www.espace-auguste.fr/events/reunion-pontiggia-7/
END:VEVENT
END:VCALENDAR