BEGIN:VCALENDAR
VERSION:2.0
PRODID:-//eventon.com NONSGML v1.0//EN
CALSCALE:GREGORIAN
METHOD:PUBLISH
BEGIN:VEVENT
UID:69e6be00ca9b7
DTSTAMP:20260421T000000Z
DTSTART:20230405
DTEND:20230406
LOCATION:
SUMMARY:SEMINAIRE LIEBHERR
DESCRIPTION:SEMINAIRE LIEBHERR\nhttps://www.espace-auguste.fr/events/semina
 ire-liebherr/
URL:https://www.espace-auguste.fr/events/seminaire-liebherr/
END:VEVENT
END:VCALENDAR