BEGIN:VCALENDAR
VERSION:2.0
PRODID:-//eventon.com NONSGML v1.0//EN
CALSCALE:GREGORIAN
METHOD:PUBLISH
BEGIN:VEVENT
UID:69e972caaeafb
DTSTAMP:20260423T011554Z
DTSTART:20240417
DTEND:20240418
LOCATION:
SUMMARY:FORMATION - ERGOENNORD
DESCRIPTION:FORMATION - ERGOENNORD\nhttps://www.espace-auguste.fr/events/fo
 rmation-ergoennord/
URL:https://www.espace-auguste.fr/events/formation-ergoennord/
END:VEVENT
END:VCALENDAR