BEGIN:VCALENDAR
VERSION:2.0
PRODID:-//eventon.com NONSGML v1.0//EN
CALSCALE:GREGORIAN
METHOD:PUBLISH
BEGIN:VEVENT
UID:69e9da6832c18
DTSTAMP:20260423T083800Z
DTSTART:20241206T113300Z
DTEND:20241206T113300Z
LOCATION:
SUMMARY:Fête de noël - LA POSTE
DESCRIPTION:Fête de noël - LA POSTE\nhttps://www.espace-auguste.fr/events
 /fete-de-noel-la-poste-2/
URL:https://www.espace-auguste.fr/events/fete-de-noel-la-poste-2/
END:VEVENT
END:VCALENDAR