BEGIN:VCALENDAR
VERSION:2.0
PRODID:-//eventon.com NONSGML v1.0//EN
CALSCALE:GREGORIAN
METHOD:PUBLISH
BEGIN:VEVENT
UID:69e5e6b566506
DTSTAMP:20260420T084125Z
DTSTART:20251121
DTEND:20251122
LOCATION:CCI CAMPUS
SUMMARY:Remise de diplomes - CCI Campus 2025
DESCRIPTION:Remise de diplomes - CCI Campus 2025\nhttps://www.espace-august
 e.fr/events/remise-de-diplomes-cci-campus-2025/
URL:https://www.espace-auguste.fr/events/remise-de-diplomes-cci-campus-2025/
END:VEVENT
END:VCALENDAR