BEGIN:VCALENDAR
VERSION:2.0
PRODID:-//eventon.com NONSGML v1.0//EN
CALSCALE:GREGORIAN
METHOD:PUBLISH
BEGIN:VEVENT
UID:69e9ec698f863
DTSTAMP:20260423T095449Z
DTSTART:20251211
DTEND:20251212
LOCATION:
SUMMARY:Formation In Extenso
DESCRIPTION:Formation In Extenso\nhttps://www.espace-auguste.fr/events/form
 ation-in-extenso/
URL:https://www.espace-auguste.fr/events/formation-in-extenso/
END:VEVENT
END:VCALENDAR