BEGIN:VCALENDAR
VERSION:2.0
PRODID:-//eventon.com NONSGML v1.0//EN
CALSCALE:GREGORIAN
METHOD:PUBLISH
BEGIN:VEVENT
UID:69e9db104ea42
DTSTAMP:20260423T084048Z
DTSTART:20260331
DTEND:20260401
LOCATION:
SUMMARY:Assemblée Générale de printemps 2026
DESCRIPTION:Assemblée Générale de printemps 2026\nhttps://www.espace-aug
 uste.fr/events/assemblee-generale-de-printemps-2026-2/
URL:https://www.espace-auguste.fr/events/assemblee-generale-de-printemps-2026-2/
END:VEVENT
END:VCALENDAR